BEGIN:VCALENDAR
VERSION:2.0
PRODID:-//eventon.com NONSGML v1.0//EN
CALSCALE:GREGORIAN
METHOD:PUBLISH
BEGIN:VEVENT
UID:69e8ba2daf8ac
DTSTAMP:20260422T120813Z
DTSTART:20250508T223000Z
DTEND:20250509T010000Z
LOCATION:Restaurant17 10 Road of Vines
SUMMARY:Meet the Makers - Spring Harvest
DESCRIPTION:Fresh\,  local ingredients are the backbone of Restaurant 17\, 
  and our annual Spring Makers Event is a celebration of that. Come out and 
 meet our local farmers and purveyors and enjoy dishes from Chef Haydn Shaak
  featuring their products. We will also be featuring the natural and organi
 c wines from[..]\nhttps://restaurant17.com/events/spring-harvest/
URL:https://restaurant17.com/events/spring-harvest/
END:VEVENT
END:VCALENDAR